Package: meshes Version: 1.26.0 Command: rm -rf meshes.buildbin-libdir && mkdir meshes.buildbin-libdir && F:\biocbuild\bbs-3.17-bioc\R\bin\R.exe CMD INSTALL --build --library=meshes.buildbin-libdir meshes_1.26.0.tar.gz StartedAt: 2023-10-16 09:03:02 -0400 (Mon, 16 Oct 2023) EndedAt: 2023-10-16 09:03:37 -0400 (Mon, 16 Oct 2023) EllapsedTime: 35.4 seconds RetCode: 0 Status: OK PackageFile: meshes_1.26.0.zip PackageFileSize: 1.661 MiB