Package: meshes Version: 1.26.0 Command: /Library/Frameworks/R.framework/Resources/bin/R CMD INSTALL meshes StartedAt: 2023-10-15 16:29:49 -0400 (Sun, 15 Oct 2023) EndedAt: 2023-10-15 16:31:15 -0400 (Sun, 15 Oct 2023) EllapsedTime: 85.9 seconds RetCode: 0 Status: OK