Package: memes Version: 1.8.0 Command: F:\biocbuild\bbs-3.17-bioc\R\bin\R.exe CMD check --no-multiarch --install=check:memes.install-out.txt --library=F:\biocbuild\bbs-3.17-bioc\R\library --no-vignettes --timings memes_1.8.0.tar.gz StartedAt: 2023-10-16 03:47:17 -0400 (Mon, 16 Oct 2023) EndedAt: 2023-10-16 03:49:21 -0400 (Mon, 16 Oct 2023) EllapsedTime: 123.5 seconds RetCode: 0 Status: WARNINGS CheckDir: memes.Rcheck Warnings: 1