Package: megadepth Version: 1.10.0 Command: F:\biocbuild\bbs-3.17-bioc\R\bin\R.exe CMD check --no-multiarch --install=check:megadepth.install-out.txt --library=F:\biocbuild\bbs-3.17-bioc\R\library --no-vignettes --timings megadepth_1.10.0.tar.gz StartedAt: 2023-10-16 03:47:11 -0400 (Mon, 16 Oct 2023) EndedAt: 2023-10-16 03:48:51 -0400 (Mon, 16 Oct 2023) EllapsedTime: 100.3 seconds RetCode: 0 Status: OK CheckDir: megadepth.Rcheck Warnings: 0