Package: megadepth Version: 1.10.0 Command: rm -rf megadepth.buildbin-libdir && mkdir megadepth.buildbin-libdir && /Users/biocbuild/BBS/utils/build-universal.sh megadepth_1.10.0.tar.gz /Library/Frameworks/R.framework/Resources/bin/R megadepth.buildbin-libdir StartedAt: 2023-10-16 09:40:50 -0400 (Mon, 16 Oct 2023) EndedAt: 2023-10-16 09:41:27 -0400 (Mon, 16 Oct 2023) EllapsedTime: 37.5 seconds RetCode: 0 Status: OK PackageFile: megadepth_1.10.0.tgz PackageFileSize: 482.6 KiB