Package: mdqc Version: 1.62.0 Command: F:\biocbuild\bbs-3.17-bioc\R\bin\R.exe CMD INSTALL mdqc StartedAt: 2023-10-15 15:47:52 -0400 (Sun, 15 Oct 2023) EndedAt: 2023-10-15 15:48:06 -0400 (Sun, 15 Oct 2023) EllapsedTime: 13.5 seconds RetCode: 0 Status: OK