Package: mdqc Version: 1.62.0 Command: rm -rf mdqc.buildbin-libdir && mkdir mdqc.buildbin-libdir && F:\biocbuild\bbs-3.17-bioc\R\bin\R.exe CMD INSTALL --build --library=mdqc.buildbin-libdir mdqc_1.62.0.tar.gz StartedAt: 2023-10-16 09:02:36 -0400 (Mon, 16 Oct 2023) EndedAt: 2023-10-16 09:02:39 -0400 (Mon, 16 Oct 2023) EllapsedTime: 3.3 seconds RetCode: 0 Status: OK PackageFile: mdqc_1.62.0.zip PackageFileSize: 183.4 KiB