Package: mdqc Version: 1.62.0 Command: /home/biocbuild/bbs-3.17-bioc/R/bin/R CMD check --install=check:mdqc.install-out.txt --library=/home/biocbuild/bbs-3.17-bioc/R/site-library --timings mdqc_1.62.0.tar.gz StartedAt: 2023-10-15 22:32:47 -0400 (Sun, 15 Oct 2023) EndedAt: 2023-10-15 22:33:10 -0400 (Sun, 15 Oct 2023) EllapsedTime: 23.0 seconds RetCode: 0 Status: OK CheckDir: mdqc.Rcheck Warnings: 0