Package: mdp Version: 1.20.0 Command: /Library/Frameworks/R.framework/Resources/bin/R CMD build --keep-empty-dirs --no-resave-data mdp StartedAt: 2023-10-15 19:18:01 -0400 (Sun, 15 Oct 2023) EndedAt: 2023-10-15 19:18:53 -0400 (Sun, 15 Oct 2023) EllapsedTime: 52.0 seconds RetCode: 0 Status: OK PackageFile: mdp_1.20.0.tar.gz PackageFileSize: 4.382 MiB