Package: mbkmeans Version: 1.16.0 Command: /home/biocbuild/bbs-3.17-bioc/R/bin/R CMD build --keep-empty-dirs --no-resave-data mbkmeans StartedAt: 2023-10-15 17:19:25 -0400 (Sun, 15 Oct 2023) EndedAt: 2023-10-15 17:21:00 -0400 (Sun, 15 Oct 2023) EllapsedTime: 94.8 seconds RetCode: 0 Status: OK PackageFile: mbkmeans_1.16.0.tar.gz PackageFileSize: 266.7 KiB