Package: mbkmeans Version: 1.16.0 Command: /Library/Frameworks/R.framework/Resources/bin/R CMD INSTALL mbkmeans StartedAt: 2023-10-15 15:31:58 -0400 (Sun, 15 Oct 2023) EndedAt: 2023-10-15 15:34:20 -0400 (Sun, 15 Oct 2023) EllapsedTime: 142.1 seconds RetCode: 0 Status: OK