Package: mbkmeans Version: 1.16.0 Command: /Library/Frameworks/R.framework/Resources/bin/R CMD build --keep-empty-dirs --no-resave-data mbkmeans StartedAt: 2023-10-15 19:16:23 -0400 (Sun, 15 Oct 2023) EndedAt: 2023-10-15 19:19:47 -0400 (Sun, 15 Oct 2023) EllapsedTime: 203.7 seconds RetCode: 0 Status: OK PackageFile: mbkmeans_1.16.0.tar.gz PackageFileSize: 266.9 KiB