Package: mbQTL Version: 1.0.0 Command: F:\biocbuild\bbs-3.17-bioc\R\bin\R.exe CMD INSTALL mbQTL StartedAt: 2023-10-15 16:49:01 -0400 (Sun, 15 Oct 2023) EndedAt: 2023-10-15 16:49:15 -0400 (Sun, 15 Oct 2023) EllapsedTime: 13.4 seconds RetCode: 0 Status: OK