Package: mbQTL Version: 1.0.0 Command: chmod a+r mbQTL -R && F:\biocbuild\bbs-3.17-bioc\R\bin\R.exe CMD build --keep-empty-dirs --no-resave-data mbQTL StartedAt: 2023-10-15 20:13:22 -0400 (Sun, 15 Oct 2023) EndedAt: 2023-10-15 20:14:40 -0400 (Sun, 15 Oct 2023) EllapsedTime: 77.3 seconds RetCode: 0 Status: OK PackageFile: mbQTL_1.0.0.tar.gz PackageFileSize: 729.2 KiB