Package: mbQTL Version: 1.0.0 Command: rm -rf mbQTL.buildbin-libdir && mkdir mbQTL.buildbin-libdir && F:\biocbuild\bbs-3.17-bioc\R\bin\R.exe CMD INSTALL --build --library=mbQTL.buildbin-libdir mbQTL_1.0.0.tar.gz StartedAt: 2023-10-16 09:02:27 -0400 (Mon, 16 Oct 2023) EndedAt: 2023-10-16 09:02:41 -0400 (Mon, 16 Oct 2023) EllapsedTime: 13.5 seconds RetCode: 0 Status: OK PackageFile: mbQTL_1.0.0.zip PackageFileSize: 782.6 KiB