Package: mbQTL Version: 1.0.0 Command: /Library/Frameworks/R.framework/Resources/bin/R CMD INSTALL mbQTL StartedAt: 2023-10-15 16:13:40 -0400 (Sun, 15 Oct 2023) EndedAt: 2023-10-15 16:14:13 -0400 (Sun, 15 Oct 2023) EllapsedTime: 33.8 seconds RetCode: 0 Status: OK