Package: mbQTL Version: 1.0.0 Command: /Library/Frameworks/R.framework/Resources/bin/R CMD check --install=check:mbQTL.install-out.txt --library=/Library/Frameworks/R.framework/Resources/library --no-vignettes --timings mbQTL_1.0.0.tar.gz StartedAt: 2023-10-16 03:30:13 -0400 (Mon, 16 Oct 2023) EndedAt: 2023-10-16 03:33:51 -0400 (Mon, 16 Oct 2023) EllapsedTime: 218.6 seconds RetCode: 0 Status: OK CheckDir: mbQTL.Rcheck Warnings: 0