Package: mbQTL Version: 1.0.0 Command: rm -rf mbQTL.buildbin-libdir && mkdir mbQTL.buildbin-libdir && /Users/biocbuild/BBS/utils/build-universal.sh mbQTL_1.0.0.tar.gz /Library/Frameworks/R.framework/Resources/bin/R mbQTL.buildbin-libdir StartedAt: 2023-10-16 09:40:18 -0400 (Mon, 16 Oct 2023) EndedAt: 2023-10-16 09:40:54 -0400 (Mon, 16 Oct 2023) EllapsedTime: 36.0 seconds RetCode: 0 Status: OK PackageFile: mbQTL_1.0.0.tgz PackageFileSize: 1.54 MiB