Package: mbOmic Version: 1.4.0 Command: /Library/Frameworks/R.framework/Resources/bin/R CMD build --keep-empty-dirs --no-resave-data mbOmic StartedAt: 2023-10-15 19:16:36 -0400 (Sun, 15 Oct 2023) EndedAt: 2023-10-15 19:18:13 -0400 (Sun, 15 Oct 2023) EllapsedTime: 97.1 seconds RetCode: 1 Status: ERROR PackageFile: None PackageFileSize: NA