Package: matter Version: 2.2.0 Command: chmod a+r matter -R && F:\biocbuild\bbs-3.17-bioc\R\bin\R.exe CMD build --keep-empty-dirs --no-resave-data matter StartedAt: 2023-10-15 20:11:56 -0400 (Sun, 15 Oct 2023) EndedAt: 2023-10-15 20:12:49 -0400 (Sun, 15 Oct 2023) EllapsedTime: 53.2 seconds RetCode: 0 Status: OK PackageFile: matter_2.2.0.tar.gz PackageFileSize: 340.7 KiB