Package: matter Version: 2.2.0 Command: rm -rf matter.buildbin-libdir && mkdir matter.buildbin-libdir && F:\biocbuild\bbs-3.17-bioc\R\bin\R.exe CMD INSTALL --build --library=matter.buildbin-libdir matter_2.2.0.tar.gz StartedAt: 2023-10-16 09:02:15 -0400 (Mon, 16 Oct 2023) EndedAt: 2023-10-16 09:03:10 -0400 (Mon, 16 Oct 2023) EllapsedTime: 54.4 seconds RetCode: 0 Status: OK PackageFile: matter_2.2.0.zip PackageFileSize: 1.906 MiB