Package: matchBox Version: 1.42.0 Command: F:\biocbuild\bbs-3.17-bioc\R\bin\R.exe CMD check --no-multiarch --install=check:matchBox.install-out.txt --library=F:\biocbuild\bbs-3.17-bioc\R\library --no-vignettes --timings matchBox_1.42.0.tar.gz StartedAt: 2023-10-16 03:42:29 -0400 (Mon, 16 Oct 2023) EndedAt: 2023-10-16 03:42:54 -0400 (Mon, 16 Oct 2023) EllapsedTime: 25.1 seconds RetCode: 0 Status: OK CheckDir: matchBox.Rcheck Warnings: 0