Package: matchBox Version: 1.42.0 Command: rm -rf matchBox.buildbin-libdir && mkdir matchBox.buildbin-libdir && F:\biocbuild\bbs-3.17-bioc\R\bin\R.exe CMD INSTALL --build --library=matchBox.buildbin-libdir matchBox_1.42.0.tar.gz StartedAt: 2023-10-16 09:02:09 -0400 (Mon, 16 Oct 2023) EndedAt: 2023-10-16 09:02:14 -0400 (Mon, 16 Oct 2023) EllapsedTime: 5.0 seconds RetCode: 0 Status: OK PackageFile: matchBox_1.42.0.zip PackageFileSize: 636 KiB