Package: matchBox Version: 1.42.0 Command: /home/biocbuild/bbs-3.17-bioc/R/bin/R CMD check --install=check:matchBox.install-out.txt --library=/home/biocbuild/bbs-3.17-bioc/R/site-library --timings matchBox_1.42.0.tar.gz StartedAt: 2023-10-15 22:30:46 -0400 (Sun, 15 Oct 2023) EndedAt: 2023-10-15 22:31:07 -0400 (Sun, 15 Oct 2023) EllapsedTime: 21.0 seconds RetCode: 0 Status: OK CheckDir: matchBox.Rcheck Warnings: 0