Package: matchBox Version: 1.42.0 Command: /Library/Frameworks/R.framework/Resources/bin/R CMD check --install=check:matchBox.install-out.txt --library=/Library/Frameworks/R.framework/Resources/library --no-vignettes --timings matchBox_1.42.0.tar.gz StartedAt: 2023-10-16 03:27:21 -0400 (Mon, 16 Oct 2023) EndedAt: 2023-10-16 03:28:12 -0400 (Mon, 16 Oct 2023) EllapsedTime: 50.9 seconds RetCode: 0 Status: OK CheckDir: matchBox.Rcheck Warnings: 0