Package: matchBox Version: 1.42.0 Command: rm -rf matchBox.buildbin-libdir && mkdir matchBox.buildbin-libdir && /Users/biocbuild/BBS/utils/build-universal.sh matchBox_1.42.0.tar.gz /Library/Frameworks/R.framework/Resources/bin/R matchBox.buildbin-libdir StartedAt: 2023-10-16 09:40:05 -0400 (Mon, 16 Oct 2023) EndedAt: 2023-10-16 09:40:13 -0400 (Mon, 16 Oct 2023) EllapsedTime: 7.5 seconds RetCode: 0 Status: OK PackageFile: matchBox_1.42.0.tgz PackageFileSize: 631.5 KiB