Package: mastR Version: 1.0.0 Command: F:\biocbuild\bbs-3.17-bioc\R\bin\R.exe CMD check --no-multiarch --install=check:mastR.install-out.txt --library=F:\biocbuild\bbs-3.17-bioc\R\library --no-vignettes --timings mastR_1.0.0.tar.gz StartedAt: 2023-10-16 03:42:12 -0400 (Mon, 16 Oct 2023) EndedAt: 2023-10-16 04:01:14 -0400 (Mon, 16 Oct 2023) EllapsedTime: 1141.4 seconds RetCode: 0 Status: OK CheckDir: mastR.Rcheck Warnings: 0