Package: mastR Version: 1.0.0 Command: rm -rf mastR.buildbin-libdir && mkdir mastR.buildbin-libdir && F:\biocbuild\bbs-3.17-bioc\R\bin\R.exe CMD INSTALL --build --library=mastR.buildbin-libdir mastR_1.0.0.tar.gz StartedAt: 2023-10-16 09:02:07 -0400 (Mon, 16 Oct 2023) EndedAt: 2023-10-16 09:02:54 -0400 (Mon, 16 Oct 2023) EllapsedTime: 46.9 seconds RetCode: 0 Status: OK PackageFile: mastR_1.0.0.zip PackageFileSize: 2.013 MiB