Package: mastR Version: 1.0.0 Command: /home/biocbuild/bbs-3.17-bioc/R/bin/R CMD check --install=check:mastR.install-out.txt --library=/home/biocbuild/bbs-3.17-bioc/R/site-library --timings mastR_1.0.0.tar.gz StartedAt: 2023-10-15 22:30:33 -0400 (Sun, 15 Oct 2023) EndedAt: 2023-10-15 22:41:21 -0400 (Sun, 15 Oct 2023) EllapsedTime: 648.4 seconds RetCode: 0 Status: OK CheckDir: mastR.Rcheck Warnings: 0