Package: mastR Version: 1.0.0 Command: /home/biocbuild/bbs-3.17-bioc/R/bin/R CMD build --keep-empty-dirs --no-resave-data mastR StartedAt: 2023-10-15 17:18:40 -0400 (Sun, 15 Oct 2023) EndedAt: 2023-10-15 17:20:52 -0400 (Sun, 15 Oct 2023) EllapsedTime: 132.3 seconds RetCode: 0 Status: OK PackageFile: mastR_1.0.0.tar.gz PackageFileSize: 2.721 MiB