Package: mastR Version: 1.0.0 Command: /Library/Frameworks/R.framework/Resources/bin/R CMD check --install=check:mastR.install-out.txt --library=/Library/Frameworks/R.framework/Resources/library --no-vignettes --timings mastR_1.0.0.tar.gz StartedAt: 2023-10-16 03:27:13 -0400 (Mon, 16 Oct 2023) EndedAt: 2023-10-16 03:52:20 -0400 (Mon, 16 Oct 2023) EllapsedTime: 1506.1 seconds RetCode: 0 Status: OK CheckDir: mastR.Rcheck Warnings: 0