Package: mastR Version: 1.0.0 Command: /Library/Frameworks/R.framework/Resources/bin/R CMD build --keep-empty-dirs --no-resave-data mastR StartedAt: 2023-10-15 19:15:19 -0400 (Sun, 15 Oct 2023) EndedAt: 2023-10-15 19:20:29 -0400 (Sun, 15 Oct 2023) EllapsedTime: 309.6 seconds RetCode: 0 Status: OK PackageFile: mastR_1.0.0.tar.gz PackageFileSize: 2.939 MiB