Package: maser Version: 1.18.0 Command: F:\biocbuild\bbs-3.17-bioc\R\bin\R.exe CMD INSTALL maser StartedAt: 2023-10-15 16:27:25 -0400 (Sun, 15 Oct 2023) EndedAt: 2023-10-15 16:28:29 -0400 (Sun, 15 Oct 2023) EllapsedTime: 63.4 seconds RetCode: 0 Status: OK