Package: maser Version: 1.18.0 Command: rm -rf maser.buildbin-libdir && mkdir maser.buildbin-libdir && F:\biocbuild\bbs-3.17-bioc\R\bin\R.exe CMD INSTALL --build --library=maser.buildbin-libdir maser_1.18.0.tar.gz StartedAt: 2023-10-16 09:01:50 -0400 (Mon, 16 Oct 2023) EndedAt: 2023-10-16 09:02:57 -0400 (Mon, 16 Oct 2023) EllapsedTime: 67.0 seconds RetCode: 0 Status: OK PackageFile: maser_1.18.0.zip PackageFileSize: 3.317 MiB