Package: maser Version: 1.18.0 Command: /home/biocbuild/bbs-3.17-bioc/R/bin/R CMD INSTALL maser StartedAt: 2023-10-15 15:30:15 -0400 (Sun, 15 Oct 2023) EndedAt: 2023-10-15 15:31:10 -0400 (Sun, 15 Oct 2023) EllapsedTime: 55.5 seconds RetCode: 0 Status: OK