Package: maser Version: 1.18.0 Command: /home/biocbuild/bbs-3.17-bioc/R/bin/R CMD build --keep-empty-dirs --no-resave-data maser StartedAt: 2023-10-15 17:18:22 -0400 (Sun, 15 Oct 2023) EndedAt: 2023-10-15 17:21:07 -0400 (Sun, 15 Oct 2023) EllapsedTime: 164.6 seconds RetCode: 0 Status: OK PackageFile: maser_1.18.0.tar.gz PackageFileSize: 2.83 MiB