Package: maser Version: 1.18.0 Command: /Library/Frameworks/R.framework/Resources/bin/R CMD INSTALL maser StartedAt: 2023-10-15 15:53:24 -0400 (Sun, 15 Oct 2023) EndedAt: 2023-10-15 15:56:16 -0400 (Sun, 15 Oct 2023) EllapsedTime: 172.7 seconds RetCode: 0 Status: OK