Package: maser Version: 1.18.0 Command: /Library/Frameworks/R.framework/Resources/bin/R CMD build --keep-empty-dirs --no-resave-data maser StartedAt: 2023-10-15 19:14:34 -0400 (Sun, 15 Oct 2023) EndedAt: 2023-10-15 19:20:29 -0400 (Sun, 15 Oct 2023) EllapsedTime: 354.9 seconds RetCode: 0 Status: OK PackageFile: maser_1.18.0.tar.gz PackageFileSize: 2.882 MiB