Package: maser Version: 1.18.0 Command: rm -rf maser.buildbin-libdir && mkdir maser.buildbin-libdir && /Users/biocbuild/BBS/utils/build-universal.sh maser_1.18.0.tar.gz /Library/Frameworks/R.framework/Resources/bin/R maser.buildbin-libdir StartedAt: 2023-10-16 09:39:44 -0400 (Mon, 16 Oct 2023) EndedAt: 2023-10-16 09:42:41 -0400 (Mon, 16 Oct 2023) EllapsedTime: 177.2 seconds RetCode: 0 Status: OK PackageFile: maser_1.18.0.tgz PackageFileSize: 3.836 MiB