Package: martini Version: 1.20.0 Command: F:\biocbuild\bbs-3.17-bioc\R\bin\R.exe CMD check --no-multiarch --install=check:martini.install-out.txt --library=F:\biocbuild\bbs-3.17-bioc\R\library --no-vignettes --timings martini_1.20.0.tar.gz StartedAt: 2023-10-16 03:40:18 -0400 (Mon, 16 Oct 2023) EndedAt: 2023-10-16 03:43:02 -0400 (Mon, 16 Oct 2023) EllapsedTime: 164.3 seconds RetCode: 0 Status: OK CheckDir: martini.Rcheck Warnings: 0