Package: martini Version: 1.20.0 Command: /Library/Frameworks/R.framework/Resources/bin/R CMD build --keep-empty-dirs --no-resave-data martini StartedAt: 2023-10-15 19:14:19 -0400 (Sun, 15 Oct 2023) EndedAt: 2023-10-15 19:15:23 -0400 (Sun, 15 Oct 2023) EllapsedTime: 64.6 seconds RetCode: 0 Status: OK PackageFile: martini_1.20.0.tar.gz PackageFileSize: 2.992 MiB