Package: marray Version: 1.78.0 Command: F:\biocbuild\bbs-3.17-bioc\R\bin\R.exe CMD INSTALL marray StartedAt: 2023-10-15 15:52:57 -0400 (Sun, 15 Oct 2023) EndedAt: 2023-10-15 15:53:26 -0400 (Sun, 15 Oct 2023) EllapsedTime: 28.7 seconds RetCode: 0 Status: OK