Package: marr Version: 1.10.0 Command: chmod a+r marr -R && F:\biocbuild\bbs-3.17-bioc\R\bin\R.exe CMD build --keep-empty-dirs --no-resave-data marr StartedAt: 2023-10-15 20:10:30 -0400 (Sun, 15 Oct 2023) EndedAt: 2023-10-15 20:11:32 -0400 (Sun, 15 Oct 2023) EllapsedTime: 61.6 seconds RetCode: 0 Status: OK PackageFile: marr_1.10.0.tar.gz PackageFileSize: 584.1 KiB