Package: marr Version: 1.10.0 Command: /home/biocbuild/bbs-3.17-bioc/R/bin/R CMD check --install=check:marr.install-out.txt --library=/home/biocbuild/bbs-3.17-bioc/R/site-library --timings marr_1.10.0.tar.gz StartedAt: 2023-10-15 22:29:16 -0400 (Sun, 15 Oct 2023) EndedAt: 2023-10-15 22:32:27 -0400 (Sun, 15 Oct 2023) EllapsedTime: 191.0 seconds RetCode: 0 Status: OK CheckDir: marr.Rcheck Warnings: 0