Package: marr Version: 1.10.0 Command: /Library/Frameworks/R.framework/Resources/bin/R CMD check --install=check:marr.install-out.txt --library=/Library/Frameworks/R.framework/Resources/library --no-vignettes --timings marr_1.10.0.tar.gz StartedAt: 2023-10-16 03:25:24 -0400 (Mon, 16 Oct 2023) EndedAt: 2023-10-16 03:33:07 -0400 (Mon, 16 Oct 2023) EllapsedTime: 462.8 seconds RetCode: 0 Status: OK CheckDir: marr.Rcheck Warnings: 0