Package: mariner Version: 1.0.0 Command: rm -rf mariner.buildbin-libdir && mkdir mariner.buildbin-libdir && F:\biocbuild\bbs-3.17-bioc\R\bin\R.exe CMD INSTALL --build --library=mariner.buildbin-libdir mariner_1.0.0.tar.gz StartedAt: 2023-10-16 09:01:41 -0400 (Mon, 16 Oct 2023) EndedAt: 2023-10-16 09:02:38 -0400 (Mon, 16 Oct 2023) EllapsedTime: 56.4 seconds RetCode: 0 Status: OK PackageFile: mariner_1.0.0.zip PackageFileSize: 1.219 MiB