Package: mariner Version: 1.0.0 Command: /home/biocbuild/bbs-3.17-bioc/R/bin/R CMD INSTALL mariner StartedAt: 2023-10-15 15:20:27 -0400 (Sun, 15 Oct 2023) EndedAt: 2023-10-15 15:21:09 -0400 (Sun, 15 Oct 2023) EllapsedTime: 42.0 seconds RetCode: 0 Status: OK