Package: mariner Version: 1.0.0 Command: /home/biocbuild/bbs-3.17-bioc/R/bin/R CMD check --install=check:mariner.install-out.txt --library=/home/biocbuild/bbs-3.17-bioc/R/site-library --timings mariner_1.0.0.tar.gz StartedAt: 2023-10-15 22:29:12 -0400 (Sun, 15 Oct 2023) EndedAt: 2023-10-15 22:45:48 -0400 (Sun, 15 Oct 2023) EllapsedTime: 995.2 seconds RetCode: 0 Status: OK CheckDir: mariner.Rcheck Warnings: 0