Package: mariner Version: 1.0.0 Command: /home/biocbuild/bbs-3.17-bioc/R/bin/R CMD build --keep-empty-dirs --no-resave-data mariner StartedAt: 2023-10-15 17:18:07 -0400 (Sun, 15 Oct 2023) EndedAt: 2023-10-15 17:20:00 -0400 (Sun, 15 Oct 2023) EllapsedTime: 113.4 seconds RetCode: 0 Status: OK PackageFile: mariner_1.0.0.tar.gz PackageFileSize: 705 KiB