Package: mariner Version: 1.0.0 Command: /Library/Frameworks/R.framework/Resources/bin/R CMD INSTALL mariner StartedAt: 2023-10-15 15:33:17 -0400 (Sun, 15 Oct 2023) EndedAt: 2023-10-15 15:35:37 -0400 (Sun, 15 Oct 2023) EllapsedTime: 140.4 seconds RetCode: 0 Status: OK